BEGIN:VCALENDAR
VERSION:2.0
METHOD:PUBLISH
BEGIN:VEVENT
DTSTAMP:20260422T154956Z
DTSTART:20231119T213000Z
DTEND:20231119T233000Z
SUMMARY:Belleville Santa Claus Parade
END:VEVENT
END:VCALENDAR
