BEGIN:VCALENDAR
VERSION:2.0
METHOD:PUBLISH
BEGIN:VEVENT
DTSTAMP:20260423T161252Z
DTSTART:20250129T160000Z
DTEND:20250129T173000Z
SUMMARY:Art Classes for Children and Adults - Belleville
LOCATION: Belleville
END:VEVENT
END:VCALENDAR
